Workbook

Sheet 記入要領
A1: 【記入要領】
B2: ※申請書のＥｘｃｅｌファイルは、Excel97-2003形式（拡張子が、ｘｌｓ）で作成されています。Ｅｘｃｅｌブックの形式（拡張子がｘｌｓｘ）で読み込んで、作業することはできますが、保存の際には。どちらで保存するかは作成者で判断をしてください（作業しやすい形式を選択してください）。
B3: ※各セル内には簡単な計算式を設定しています。入力時には十分ご注意ください。
B4: ※ 部分に必要な事項を入力してください。
A6: ①実績報告書について
B7: ・提出日を入力。
B8: ・学校名・指定競技名を入力すると、総括表と各個表に反映されるように設定しています。
B9: ・学校長名を入力。学校長公印を押印。
A11: ②総括表について
B12: ・予算（Ａ）については、交付申請書の予算額を入力してください。.。
B13: ・その他の項目については直接データを入力する必要はありません。
C14: （実績報告書及び各個表で入力されたデータが反映されるように設定しています。）
A16: ③個表について
B17: ・学校名、指定競技名については直接データを入力する必要はありません。
B18: ・事業名～事業の内容及び成果までの空欄 （淡緑色） に必要事項を記入。
C19: ※事業名は、プルダウンメニューから選択してください。
D21: プルダウンメニューの項目 | F21: 強化合宿
F22: 県外遠征
E23: ▽ | F23: 特別強化コーチ招へい
F24: 強化合宿及び特別強化コーチ招へい
C25: カーソルを当てると▽マークが表示されます。 | F25: 県外遠征及び特別強化コーチ招へい
F26: 各種トレーニング講習 | H26: ・・・ （支援校）
F27: 器具施設使用
B29: ・収入欄の高体連補助金に金額を入力すると、保護者徴収金等が表示されるように設定しています。
B30: ・支出欄の内訳（各領収書等金額）のセルごとに１枚の領収書金額を入力すると自動計算し、決算額欄の金額 が表示されるように設定しています。
B31: ・領収書等番号には、台紙に貼付した領収書等に番号を付け、「①～⑤」のように入力すること。
A33: ④その他
B34: ・交付申請書と実績報告書の様式は異なりますのでご注意ください。
B35: ・各シートのデータ入力が必要な欄以外には編集ができないように保護がかかっています。保護を解
B36: 除する必要がある場合は下記の手順で解除してください。（パスワードは設定していません）
C38: メニューバー【ツール(T)】→【保護(P)】→【シート保護の解除(P)】
C39: またはメニューバー【校閲】→【シート保護の解除】

Sheet 実績報告
A1: 【様式第２号】
O4: 令和 | R4: 年 | T4: 月 | V4: 日
A7: 長崎県高等学校体育連盟会長 様
K11: 学校名 | U11: 高等学校
K13: 校長名 | U13: 印
H15: （指定競技名 | U15: ）
A18: 令和７年度ジュニアスポーツ推進事業補助金実績報告書
A21: 令和７年４月１日付け７長高体第１号で交付の決定の通知があったジュニアスポーツ
A22: 推進事業補助金について、その実績を関係書類を添えて報告いたします。
C26: 関 係 書 類
D27: １ 収支決算書（総括表）
D28: ２ 事業別実施報告書・収支決算書（個表）
D29: ３ 領収書写し
D30: ４ 会計簿

Sheet 総括表
A1: 【様式第２号の１】
A3: 令和７年度ジュニアスポーツ推進事業[強化校・育成校・支援校]収支決算書（総括表）
B5: 学校名 | C5: =IF(実績報告!N11="","",実績報告!N11) | H5: 高等学校
A6: 指定競技名 | C6: =IF(実績報告!N15="","",実績報告!N15)
A8: （収入） | I8: （単位：円）
A9: 費 目 | C9: 予算（Ａ） | D9: 決算（Ｂ） | E9: 差引A-B | F9: 事業① | G9: 事業② | H9: 事業③ | I9: 事業④
A10: 高体連補助金 | D10: =SUM(F10:I10)+SUM(C16:I16) -> 0 | E10: =C10-D10 -> 0 | F10: =個表1!E17 -> 0 | G10: =個表2!E17 -> 0 | H10: =個表3!E17 -> 0 | I10: =個表4!E17 -> 0
A11: 保護者徴収金等 | D11: =SUM(F11:I11)+SUM(C17:I17) -> 0 | E11: =C11-D11 -> 0 | F11: =個表1!E18 -> 0 | G11: =個表2!E18 -> 0 | H11: =個表3!E18 -> 0 | I11: =個表4!E18 -> 0
C12: =SUM(E12:I12)+SUM(C18:I18) -> 0
A13: 計 | C13: =SUM(C10:C12) -> 0 | D13: =SUM(D10:D12) -> 0 | E13: =SUM(E10:E12) -> 0 | F13: =SUM(F10:F12) -> 0 | G13: =SUM(G10:G12) -> 0 | H13: =SUM(H10:H12) -> 0 | I13: =SUM(I10:I12) -> 0
B15: 費 目 | C15: 事業⑤ | D15: 事業⑥ | E15: 事業⑦ | F15: 事業⑧ | G15: 事業⑨ | H15: 事業⑩ | I15: 事業⑪
B16: 高体連補助金 | C16: =個表5!E17 -> 0 | D16: =個表6!E17 -> 0 | E16: =個表7!E17 -> 0 | F16: =個表8!E17 -> 0 | G16: =個表9!E17 -> 0 | H16: =個表10!E17 -> 0 | I16: =個表11!E17 -> 0
B17: 保護者負担金等 | C17: =個表5!E18 -> 0 | D17: =個表6!E18 -> 0 | E17: =個表7!E18 -> 0 | F17: =個表8!E18 -> 0 | G17: =個表9!E18 -> 0 | H17: =個表10!E18 -> 0 | I17: =個表11!E18 -> 0
B19: 計 | C19: =SUM(C16:C18) -> 0 | D19: =SUM(D16:D18) -> 0 | E19: =SUM(E16:E18) -> 0 | F19: =SUM(F16:F18) -> 0 | G19: =SUM(G16:G18) -> 0 | H19: =SUM(H16:H18) -> 0 | I19: =SUM(I16:I18) -> 0
A21: （支出） | I21: （単位：円）
A22: 費 目 | C22: 予算（Ａ） | D22: 決算（Ｂ） | E22: 差引A-B | F22: 事業① | G22: 事業② | H22: 事業③ | I22: 事業④
A23: 交 通 費 | D23: =SUM(F23:I23)+SUM(C31:I31) -> 0 | E23: =C23-D23 -> 0 | F23: =個表1!E24 -> 0 | G23: =個表2!E24 -> 0 | H23: =個表3!E24 -> 0 | I23: =個表4!E24 -> 0
A24: 宿 泊 費 | D24: =SUM(F24:I24)+SUM(C32:I32) -> 0 | E24: =C24-D24 -> 0 | F24: =個表1!E30 -> 0 | G24: =個表2!E30 -> 0 | H24: =個表3!E30 -> 0 | I24: =個表4!E30 -> 0
A25: 謝 金 | D25: =SUM(F25:I25)+SUM(C33:I33) -> 0 | E25: =C25-D25 -> 0 | F25: =個表1!E36 -> 0 | G25: =個表2!E36 -> 0 | H25: =個表3!E36 -> 0 | I25: =個表4!E36 -> 0
A26: 会場・器具使用料 | D26: =SUM(F26:I26)+SUM(C34:I34) -> 0 | E26: =C26-D26 -> 0 | F26: =個表1!E37 -> 0 | G26: =個表2!E37 -> 0 | H26: =個表3!E38 -> 0 | I26: =個表4!E38 -> 0
A27: 運 搬 費 | D27: =SUM(F27:I27)+SUM(C35:I35) -> 0 | E27: =C27-D27 -> 0 | F27: =個表1!E41 -> 0 | G27: =個表2!E41 -> 0 | H27: =個表3!E41 -> 0 | I27: =個表4!E41 -> 0
A28: 計 | C28: =SUM(C23:C27) -> 0 | D28: =SUM(D23:D27) -> 0 | E28: =SUM(E23:E27) -> 0 | F28: =SUM(F23:F27) -> 0 | G28: =SUM(G23:G27) -> 0 | H28: =SUM(H23:H27) -> 0 | I28: =SUM(I23:I27) -> 0
B30: 費 目 | C30: 事業⑤ | D30: 事業⑥ | E30: 事業⑦ | F30: 事業⑧ | G30: 事業⑨ | H30: 事業⑩ | I30: 事業⑪
B31: 交通費 | C31: =個表5!E24 -> 0 | D31: =個表6!E24 -> 0 | E31: =個表7!E24 -> 0 | F31: =個表8!E24 -> 0 | G31: =個表9!E24 -> 0 | H31: =個表10!E24 -> 0 | I31: =個表11!E24 -> 0
B32: 宿泊費 | C32: =個表5!E30 -> 0 | D32: =個表6!E30 -> 0 | E32: =個表7!E30 -> 0 | F32: =個表8!E30 -> 0 | G32: =個表9!E30 -> 0 | H32: =個表10!E30 -> 0 | I32: =個表11!E30 -> 0
B33: 謝 金 | C33: =個表5!E36 -> 0 | D33: =個表6!E36 -> 0 | E33: =個表7!E36 -> 0 | F33: =個表8!E36 -> 0 | G33: =個表9!E36 -> 0 | H33: =個表10!E36 -> 0 | I33: =個表11!E36 -> 0
B34: 会場・器具使用料 | C34: =個表5!E38 -> 0 | D34: =個表6!E38 -> 0 | E34: =個表7!E38 -> 0 | F34: =個表8!E38 -> 0 | G34: =個表9!E38 -> 0 | H34: =個表10!E38 -> 0 | I34: =個表11!E38 -> 0
B35: 運搬費 | C35: =個表5!E41 -> 0 | D35: =個表6!E41 -> 0 | E35: =個表7!E41 -> 0 | F35: =個表8!E41 -> 0 | G35: =個表9!E41 -> 0 | H35: =個表10!E41 -> 0 | I35: =個表11!E41 -> 0
B36: 計 | C36: =SUM(C31:C35) -> 0 | D36: =SUM(D31:D35) -> 0 | E36: =SUM(E31:E35) -> 0 | F36: =SUM(F31:F35) -> 0 | G36: =SUM(G31:G35) -> 0 | H36: =SUM(H31:H35) -> 0 | I36: =SUM(I31:I35) -> 0

Sheet 個表1
A1: ＜様式第２号の２＞
A2: 令和７年度ジュニアスポーツ推進事業[強化校・育成校・支援校]事業別実施報告書・収支決算書（個表）
A5: 学校名 | D5: =実績報告!N11 -> 0 | I5: 高等学校 | M5: 指定競技名 | N5: =実績報告!N15 -> 0 | W5: 事業番号 | Y5: 1
A7: 事業名 | J7: 期 間 | L7: 令和 | N7: 年 | P7: 月 | R7: 日（ | T7: ）～ | V7: 月 | X7: 日（ | Z7: ） | AD7: 強化合宿
A8: 会 場 名 | G8: 所 在 地 | M8: 実施責任者氏名（顧問名） | R8: 実施責任者電話番号（携帯） | AD8: 県外遠征
AD9: 特別強化コーチ招へい
A10: 参加者 | B10: 指 導 者 | C10: 部員 | E10: 合計 | G10: 事業の内容 | AD10: 強化合宿及び特別強化コーチ招へい
E11: （人） | AD11: 県外遠征及び特別強化コーチ招へい
C12: 男 | D12: 女 | E12: 計 | G12: 及び成果 | AD12: 各種トレーニング講習
AD13: 器具施設使用
A15: （収入） | Z15: （単位：円）
A16: 費 目 | E16: 決 算 額 | I16: 内 訳
A17: 高体連補助金
A18: 保護者徴収金等 | E18: =E20-E17 -> 0
A20: 計 | E20: =E43 -> 0
A22: （支出） | Z22: （単位：円）
A23: 費目 | E23: 決 算 額 | I23: 内 訳（各領収書等金額） | V23: 計 | X23: 領収書等番号
A24: 交 通 費 | E24: =SUM(V24:V29) -> 0 | I24: 参加者旅費（往復） | V24: =SUM(L24:T24) -> 0
I25: 自家用車等燃料費 | V25: =SUM(L25:T25) -> 0
I26: 高速・有料道路 通行料 | V26: =SUM(L26:T26) -> 0
I27: 駐車料 | V27: =SUM(L27:T27) -> 0
I28: レンタカー代 | V28: =SUM(L28:T28) -> 0
I29: 特別強化コーチ 旅費（往復） | V29: =SUM(L29:T29) -> 0
A30: 宿 泊 費 | E30: =SUM(V30:V35) -> 0 | I30: １泊２食 | V30: =SUM(L30:T30) -> 0
I31: １泊朝食 | V31: =SUM(L31:T31) -> 0
I32: １泊素泊まり | V32: =SUM(L32:T32) -> 0
I33: 宿泊日夕食 | V33: =SUM(L33:T33) -> 0
I34: 宿泊翌日朝食 | V34: =SUM(L34:T34) -> 0
I35: 特別強化コーチ 宿泊費 | V35: =SUM(L35:T35) -> 0
A36: 謝 金 | E36: =V36 -> 0 | I36: 特別強化コーチ 謝金 | V36: =SUM(L36:T36) -> 0
A37: 会場・器具使用料 | E37: =+V37+V38+V39+V40 -> 0 | I37: 施設使用料 | V37: =SUM(L37:U37) -> 0
J38: ボウリング | V38: =SUM(L38:T38) -> 0
J39: ゴルフ | V39: =SUM(L39:T39) -> 0
J40: 馬術 | V40: =SUM(L40:T40) -> 0
A41: 運 搬 費 | E41: =+V41+V42 -> 0 | J41: 艇 | V41: =SUM(L41:T41) -> 0
J42: 馬 | V42: =SUM(L42:T42) -> 0
A43: 計 | E43: =SUM(E24:E42) -> 0

Sheet 個表2
A1: ＜様式第２号の２＞
A2: 令和７年度ジュニアスポーツ推進事業[強化校・育成校・支援校]事業別実施報告書・収支決算書（個表）
A5: 学校名 | D5: =実績報告!N11 -> 0 | I5: 高等学校 | M5: 指定競技名 | N5: =実績報告!N15 -> 0 | W5: 事業番号 | Y5: 2
A7: 事業名 | J7: 期 間 | L7: 令和 | N7: 年 | P7: 月 | R7: 日（ | T7: ）～ | V7: 月 | X7: 日（ | Z7: ） | AD7: 強化合宿
A8: 会 場 名 | G8: 所 在 地 | M8: 実施責任者氏名（顧問名） | R8: 実施責任者電話番号（携帯） | AD8: 県外遠征
AD9: 特別強化コーチ招へい
A10: 参加者 | B10: 指 導 者 | C10: 部員 | E10: 合計 | G10: 事業の内容 | AD10: 強化合宿及び特別強化コーチ招へい
E11: （人） | AD11: 県外遠征及び特別強化コーチ招へい
C12: 男 | D12: 女 | E12: 計 | G12: 及び成果 | AD12: 各種トレーニング講習
AD13: 器具施設使用
A15: （収入） | Z15: （単位：円）
A16: 費 目 | E16: 決 算 額 | I16: 内 訳
A17: 高体連補助金
A18: 保護者徴収金等 | E18: =E20-E17 -> 0
A20: 計 | E20: =E43 -> 0
A22: （支出） | Z22: （単位：円）
A23: 費目 | E23: 決 算 額 | I23: 内 訳（各領収書等金額） | V23: 計 | X23: 領収書等番号
A24: 交 通 費 | E24: =SUM(V24:V29) -> 0 | I24: 参加者旅費（往復） | V24: =SUM(L24:T24) -> 0
I25: 自家用車等燃料費 | V25: =SUM(L25:T25) -> 0
I26: 高速・有料道路 通行料 | V26: =SUM(L26:T26) -> 0
I27: 駐車料 | V27: =SUM(L27:T27) -> 0
I28: レンタカー代 | V28: =SUM(L28:T28) -> 0
I29: 特別強化コーチ 旅費（往復） | V29: =SUM(L29:T29) -> 0
A30: 宿 泊 費 | E30: =SUM(V30:V35) -> 0 | I30: １泊２食 | V30: =SUM(L30:T30) -> 0
I31: １泊朝食 | V31: =SUM(L31:T31) -> 0
I32: １泊素泊まり | V32: =SUM(L32:T32) -> 0
I33: 宿泊日夕食 | V33: =SUM(L33:T33) -> 0
I34: 宿泊翌日朝食 | V34: =SUM(L34:T34) -> 0
I35: 特別強化コーチ 宿泊費 | V35: =SUM(L35:T35) -> 0
A36: 謝 金 | E36: =V36 -> 0 | I36: 特別強化コーチ 謝金 | V36: =SUM(L36:T36) -> 0
A37: 会場・器具使用料 | E37: =+V37+V38+V39+V40 -> 0 | I37: 施設使用料 | V37: =SUM(L37:U37) -> 0
J38: ボウリング | V38: =SUM(L38:T38) -> 0
J39: ゴルフ | V39: =SUM(L39:T39) -> 0
J40: 馬術 | V40: =SUM(L40:T40) -> 0
A41: 運 搬 費 | E41: =+V41+V42 -> 0 | J41: 艇 | V41: =SUM(L41:T41) -> 0
J42: 馬 | V42: =SUM(L42:T42) -> 0
A43: 計 | E43: =SUM(E24:E42) -> 0

Sheet 個表3
A1: ＜様式第２号の２＞
A2: 令和７年度ジュニアスポーツ推進事業[強化校・育成校・支援校]事業別実施報告書・収支決算書（個表）
A5: 学校名 | D5: =実績報告!N11 -> 0 | I5: 高等学校 | M5: 指定競技名 | N5: =実績報告!N15 -> 0 | W5: 事業番号 | Y5: 3
A7: 事業名 | J7: 期 間 | L7: 令和 | N7: 年 | P7: 月 | R7: 日（ | T7: ）～ | V7: 月 | X7: 日（ | Z7: ） | AD7: 強化合宿
A8: 会 場 名 | G8: 所 在 地 | M8: 実施責任者氏名（顧問名） | R8: 実施責任者電話番号（携帯） | AD8: 県外遠征
AD9: 特別強化コーチ招へい
A10: 参加者 | B10: 指 導 者 | C10: 部員 | E10: 合計 | G10: 事業の内容 | AD10: 強化合宿及び特別強化コーチ招へい
E11: （人） | AD11: 県外遠征及び特別強化コーチ招へい
C12: 男 | D12: 女 | E12: 計 | G12: 及び成果 | AD12: 各種トレーニング講習
AD13: 器具施設使用
A15: （収入） | Z15: （単位：円）
A16: 費 目 | E16: 決 算 額 | I16: 内 訳
A17: 高体連補助金
A18: 保護者徴収金等 | E18: =E20-E17 -> 0
A20: 計 | E20: =E43 -> 0
A22: （支出） | Z22: （単位：円）
A23: 費目 | E23: 決 算 額 | I23: 内 訳（各領収書等金額） | V23: 計 | X23: 領収書等番号
A24: 交 通 費 | E24: =SUM(V24:V29) -> 0 | I24: 参加者旅費（往復） | V24: =SUM(L24:T24) -> 0
I25: 自家用車等燃料費 | V25: =SUM(L25:T25) -> 0
I26: 高速・有料道路 通行料 | V26: =SUM(L26:T26) -> 0
I27: 駐車料 | V27: =SUM(L27:T27) -> 0
I28: レンタカー代 | V28: =SUM(L28:T28) -> 0
I29: 特別強化コーチ 旅費（往復） | V29: =SUM(L29:T29) -> 0
A30: 宿 泊 費 | E30: =SUM(V30:V35) -> 0 | I30: １泊２食 | V30: =SUM(L30:T30) -> 0
I31: １泊朝食 | V31: =SUM(L31:T31) -> 0
I32: １泊素泊まり | V32: =SUM(L32:T32) -> 0
I33: 宿泊日夕食 | V33: =SUM(L33:T33) -> 0
I34: 宿泊翌日朝食 | V34: =SUM(L34:T34) -> 0
I35: 特別強化コーチ 宿泊費 | V35: =SUM(L35:T35) -> 0
A36: 謝 金 | E36: =V36 -> 0 | I36: 特別強化コーチ 謝金 | V36: =SUM(L36:T36) -> 0
A37: 会場・器具使用料 | E37: =+V37+V38+V39+V40 -> 0 | I37: 施設使用料 | V37: =SUM(L37:U37) -> 0
J38: ボウリング | V38: =SUM(L38:T38) -> 0
J39: ゴルフ | V39: =SUM(L39:T39) -> 0
J40: 馬術 | V40: =SUM(L40:T40) -> 0
A41: 運 搬 費 | E41: =+V41+V42 -> 0 | J41: 艇 | V41: =SUM(L41:T41) -> 0
J42: 馬 | V42: =SUM(L42:T42) -> 0
A43: 計 | E43: =SUM(E24:E42) -> 0

Sheet 個表4
A1: ＜様式第２号の２＞
A2: 令和７年度ジュニアスポーツ推進事業[強化校・育成校・支援校]事業別実施報告書・収支決算書（個表）
A5: 学校名 | D5: =実績報告!N11 -> 0 | I5: 高等学校 | M5: 指定競技名 | N5: =実績報告!N15 -> 0 | W5: 事業番号 | Y5: 4
A7: 事業名 | J7: 期 間 | L7: 令和 | N7: 年 | P7: 月 | R7: 日（ | T7: ）～ | V7: 月 | X7: 日（ | Z7: ） | AD7: 強化合宿
A8: 会 場 名 | G8: 所 在 地 | M8: 実施責任者氏名（顧問名） | R8: 実施責任者電話番号（携帯） | AD8: 県外遠征
AD9: 特別強化コーチ招へい
A10: 参加者 | B10: 指 導 者 | C10: 部員 | E10: 合計 | G10: 事業の内容 | AD10: 強化合宿及び特別強化コーチ招へい
E11: （人） | AD11: 県外遠征及び特別強化コーチ招へい
C12: 男 | D12: 女 | E12: 計 | G12: 及び成果 | AD12: 各種トレーニング講習
AD13: 器具施設使用
A15: （収入） | Z15: （単位：円）
A16: 費 目 | E16: 決 算 額 | I16: 内 訳
A17: 高体連補助金
A18: 保護者徴収金等 | E18: =E20-E17 -> 0
A20: 計 | E20: =E43 -> 0
A22: （支出） | Z22: （単位：円）
A23: 費目 | E23: 決 算 額 | I23: 内 訳（各領収書等金額） | V23: 計 | X23: 領収書等番号
A24: 交 通 費 | E24: =SUM(V24:V29) -> 0 | I24: 参加者旅費（往復） | V24: =SUM(L24:T24) -> 0
I25: 自家用車等燃料費 | V25: =SUM(L25:T25) -> 0
I26: 高速・有料道路 通行料 | V26: =SUM(L26:T26) -> 0
I27: 駐車料 | V27: =SUM(L27:T27) -> 0
I28: レンタカー代 | V28: =SUM(L28:T28) -> 0
I29: 特別強化コーチ 旅費（往復） | V29: =SUM(L29:T29) -> 0
A30: 宿 泊 費 | E30: =SUM(V30:V35) -> 0 | I30: １泊２食 | V30: =SUM(L30:T30) -> 0
I31: １泊朝食 | V31: =SUM(L31:T31) -> 0
I32: １泊素泊まり | V32: =SUM(L32:T32) -> 0
I33: 宿泊日夕食 | V33: =SUM(L33:T33) -> 0
I34: 宿泊翌日朝食 | V34: =SUM(L34:T34) -> 0
I35: 特別強化コーチ 宿泊費 | V35: =SUM(L35:T35) -> 0
A36: 謝 金 | E36: =V36 -> 0 | I36: 特別強化コーチ 謝金 | V36: =SUM(L36:T36) -> 0
A37: 会場・器具使用料 | E37: =+V37+V38+V39+V40 -> 0 | I37: 施設使用料 | V37: =SUM(L37:U37) -> 0
J38: ボウリング | V38: =SUM(L38:T38) -> 0
J39: ゴルフ | V39: =SUM(L39:T39) -> 0
J40: 馬術 | V40: =SUM(L40:T40) -> 0
A41: 運 搬 費 | E41: =+V41+V42 -> 0 | J41: 艇 | V41: =SUM(L41:T41) -> 0
J42: 馬 | V42: =SUM(L42:T42) -> 0
A43: 計 | E43: =SUM(E24:E42) -> 0

Sheet 個表5
A1: ＜様式第２号の２＞
A2: 令和７年度ジュニアスポーツ推進事業[強化校・育成校・支援校]事業別実施報告書・収支決算書（個表）
A5: 学校名 | D5: =実績報告!N11 -> 0 | I5: 高等学校 | M5: 指定競技名 | N5: =実績報告!N15 -> 0 | W5: 事業番号 | Y5: 5
A7: 事業名 | J7: 期 間 | L7: 令和 | N7: 年 | P7: 月 | R7: 日（ | T7: ）～ | V7: 月 | X7: 日（ | Z7: ） | AD7: 強化合宿
A8: 会 場 名 | G8: 所 在 地 | M8: 実施責任者氏名（顧問名） | R8: 実施責任者電話番号（携帯） | AD8: 県外遠征
AD9: 特別強化コーチ招へい
A10: 参加者 | B10: 指 導 者 | C10: 部員 | E10: 合計 | G10: 事業の内容 | AD10: 強化合宿及び特別強化コーチ招へい
E11: （人） | AD11: 県外遠征及び特別強化コーチ招へい
C12: 男 | D12: 女 | E12: 計 | G12: 及び成果 | AD12: 各種トレーニング講習
AD13: 器具施設使用
A15: （収入） | Z15: （単位：円）
A16: 費 目 | E16: 決 算 額 | I16: 内 訳
A17: 高体連補助金
A18: 保護者徴収金等 | E18: =E20-E17 -> 0
A20: 計 | E20: =E43 -> 0
A22: （支出） | Z22: （単位：円）
A23: 費目 | E23: 決 算 額 | I23: 内 訳（各領収書等金額） | V23: 計 | X23: 領収書等番号
A24: 交 通 費 | E24: =SUM(V24:V29) -> 0 | I24: 参加者旅費（往復） | V24: =SUM(L24:T24) -> 0
I25: 自家用車等燃料費 | V25: =SUM(L25:T25) -> 0
I26: 高速・有料道路 通行料 | V26: =SUM(L26:T26) -> 0
I27: 駐車料 | V27: =SUM(L27:T27) -> 0
I28: レンタカー代 | V28: =SUM(L28:T28) -> 0
I29: 特別強化コーチ 旅費（往復） | V29: =SUM(L29:T29) -> 0
A30: 宿 泊 費 | E30: =SUM(V30:V35) -> 0 | I30: １泊２食 | V30: =SUM(L30:T30) -> 0
I31: １泊朝食 | V31: =SUM(L31:T31) -> 0
I32: １泊素泊まり | V32: =SUM(L32:T32) -> 0
I33: 宿泊日夕食 | V33: =SUM(L33:T33) -> 0
I34: 宿泊翌日朝食 | V34: =SUM(L34:T34) -> 0
I35: 特別強化コーチ 宿泊費 | V35: =SUM(L35:T35) -> 0
A36: 謝 金 | E36: =V36 -> 0 | I36: 特別強化コーチ 謝金 | V36: =SUM(L36:T36) -> 0
A37: 会場・器具使用料 | E37: =+V37+V38+V39+V40 -> 0 | I37: 施設使用料 | V37: =SUM(L37:U37) -> 0
J38: ボウリング | V38: =SUM(L38:T38) -> 0
J39: ゴルフ | V39: =SUM(L39:T39) -> 0
J40: 馬術 | V40: =SUM(L40:T40) -> 0
A41: 運 搬 費 | E41: =+V41+V42 -> 0 | J41: 艇 | V41: =SUM(L41:T41) -> 0
J42: 馬 | V42: =SUM(L42:T42) -> 0
A43: 計 | E43: =SUM(E24:E42) -> 0

Sheet 個表6
A1: ＜様式第２号の２＞
A2: 令和７年度ジュニアスポーツ推進事業[強化校・育成校・支援校]事業別実施報告書・収支決算書（個表）
A5: 学校名 | D5: =実績報告!N11 -> 0 | I5: 高等学校 | M5: 指定競技名 | N5: =実績報告!N15 -> 0 | W5: 事業番号 | Y5: 6
A7: 事業名 | J7: 期 間 | L7: 令和 | N7: 年 | P7: 月 | R7: 日（ | T7: ）～ | V7: 月 | X7: 日（ | Z7: ） | AD7: 強化合宿
A8: 会 場 名 | G8: 所 在 地 | M8: 実施責任者氏名（顧問名） | R8: 実施責任者電話番号（携帯） | AD8: 県外遠征
AD9: 特別強化コーチ招へい
A10: 参加者 | B10: 指 導 者 | C10: 部員 | E10: 合計 | G10: 事業の内容 | AD10: 強化合宿及び特別強化コーチ招へい
E11: （人） | AD11: 県外遠征及び特別強化コーチ招へい
C12: 男 | D12: 女 | E12: 計 | G12: 及び成果 | AD12: 各種トレーニング講習
AD13: 器具施設使用
A15: （収入） | Z15: （単位：円）
A16: 費 目 | E16: 決 算 額 | I16: 内 訳
A17: 高体連補助金
A18: 保護者徴収金等 | E18: =E20-E17 -> 0
A20: 計 | E20: =E43 -> 0
A22: （支出） | Z22: （単位：円）
A23: 費目 | E23: 決 算 額 | I23: 内 訳（各領収書等金額） | V23: 計 | X23: 領収書等番号
A24: 交 通 費 | E24: =SUM(V24:V29) -> 0 | I24: 参加者旅費（往復） | V24: =SUM(L24:T24) -> 0
I25: 自家用車等燃料費 | V25: =SUM(L25:T25) -> 0
I26: 高速・有料道路 通行料 | V26: =SUM(L26:T26) -> 0
I27: 駐車料 | V27: =SUM(L27:T27) -> 0
I28: レンタカー代 | V28: =SUM(L28:T28) -> 0
I29: 特別強化コーチ 旅費（往復） | V29: =SUM(L29:T29) -> 0
A30: 宿 泊 費 | E30: =SUM(V30:V35) -> 0 | I30: １泊２食 | V30: =SUM(L30:T30) -> 0
I31: １泊朝食 | V31: =SUM(L31:T31) -> 0
I32: １泊素泊まり | V32: =SUM(L32:T32) -> 0
I33: 宿泊日夕食 | V33: =SUM(L33:T33) -> 0
I34: 宿泊翌日朝食 | V34: =SUM(L34:T34) -> 0
I35: 特別強化コーチ 宿泊費 | V35: =SUM(L35:T35) -> 0
A36: 謝 金 | E36: =V36 -> 0 | I36: 特別強化コーチ 謝金 | V36: =SUM(L36:T36) -> 0
A37: 会場・器具使用料 | E37: =+V37+V38+V39+V40 -> 0 | I37: 施設使用料 | V37: =SUM(L37:U37) -> 0
J38: ボウリング | V38: =SUM(L38:T38) -> 0
J39: ゴルフ | V39: =SUM(L39:T39) -> 0
J40: 馬術 | V40: =SUM(L40:T40) -> 0
A41: 運 搬 費 | E41: =+V41+V42 -> 0 | J41: 艇 | V41: =SUM(L41:T41) -> 0
J42: 馬 | V42: =SUM(L42:T42) -> 0
A43: 計 | E43: =SUM(E24:E42) -> 0

Sheet 個表7
A1: ＜様式第２号の２＞
A2: 令和７年度ジュニアスポーツ推進事業[強化校・育成校・支援校]事業別実施報告書・収支決算書（個表）
A5: 学校名 | D5: =実績報告!N11 -> 0 | I5: 高等学校 | M5: 指定競技名 | N5: =実績報告!N15 -> 0 | W5: 事業番号 | Y5: 7
A7: 事業名 | J7: 期 間 | L7: 令和 | N7: 年 | P7: 月 | R7: 日（ | T7: ）～ | V7: 月 | X7: 日（ | Z7: ） | AD7: 強化合宿
A8: 会 場 名 | G8: 所 在 地 | M8: 実施責任者氏名（顧問名） | R8: 実施責任者電話番号（携帯） | AD8: 県外遠征
AD9: 特別強化コーチ招へい
A10: 参加者 | B10: 指 導 者 | C10: 部員 | E10: 合計 | G10: 事業の内容 | AD10: 強化合宿及び特別強化コーチ招へい
E11: （人） | AD11: 県外遠征及び特別強化コーチ招へい
C12: 男 | D12: 女 | E12: 計 | G12: 及び成果 | AD12: 各種トレーニング講習
AD13: 器具施設使用
A15: （収入） | Z15: （単位：円）
A16: 費 目 | E16: 決 算 額 | I16: 内 訳
A17: 高体連補助金
A18: 保護者徴収金等 | E18: =E20-E17 -> 0
A20: 計 | E20: =E43 -> 0
A22: （支出） | Z22: （単位：円）
A23: 費目 | E23: 決 算 額 | I23: 内 訳（各領収書等金額） | V23: 計 | X23: 領収書等番号
A24: 交 通 費 | E24: =SUM(V24:V29) -> 0 | I24: 参加者旅費（往復） | V24: =SUM(L24:T24) -> 0
I25: 自家用車等燃料費 | V25: =SUM(L25:T25) -> 0
I26: 高速・有料道路 通行料 | V26: =SUM(L26:T26) -> 0
I27: 駐車料 | V27: =SUM(L27:T27) -> 0
I28: レンタカー代 | V28: =SUM(L28:T28) -> 0
I29: 特別強化コーチ 旅費（往復） | V29: =SUM(L29:T29) -> 0
A30: 宿 泊 費 | E30: =SUM(V30:V35) -> 0 | I30: １泊２食 | V30: =SUM(L30:T30) -> 0
I31: １泊朝食 | V31: =SUM(L31:T31) -> 0
I32: １泊素泊まり | V32: =SUM(L32:T32) -> 0
I33: 宿泊日夕食 | V33: =SUM(L33:T33) -> 0
I34: 宿泊翌日朝食 | V34: =SUM(L34:T34) -> 0
I35: 特別強化コーチ 宿泊費 | V35: =SUM(L35:T35) -> 0
A36: 謝 金 | E36: =V36 -> 0 | I36: 特別強化コーチ 謝金 | V36: =SUM(L36:T36) -> 0
A37: 会場・器具使用料 | E37: =+V37+V38+V39+V40 -> 0 | I37: 施設使用料 | V37: =SUM(L37:U37) -> 0
J38: ボウリング | V38: =SUM(L38:T38) -> 0
J39: ゴルフ | V39: =SUM(L39:T39) -> 0
J40: 馬術 | V40: =SUM(L40:T40) -> 0
A41: 運 搬 費 | E41: =+V41+V42 -> 0 | J41: 艇 | V41: =SUM(L41:T41) -> 0
J42: 馬 | V42: =SUM(L42:T42) -> 0
A43: 計 | E43: =SUM(E24:E42) -> 0

Sheet 個表8
A1: ＜様式第２号の２＞
A2: 令和７年度ジュニアスポーツ推進事業[強化校・育成校・支援校]事業別実施報告書・収支決算書（個表）
A5: 学校名 | D5: =実績報告!N11 -> 0 | I5: 高等学校 | M5: 指定競技名 | N5: =実績報告!N15 -> 0 | W5: 事業番号 | Y5: 8
A7: 事業名 | J7: 期 間 | L7: 令和 | N7: 年 | P7: 月 | R7: 日（ | T7: ）～ | V7: 月 | X7: 日（ | Z7: ） | AD7: 強化合宿
A8: 会 場 名 | G8: 所 在 地 | M8: 実施責任者氏名（顧問名） | R8: 実施責任者電話番号（携帯） | AD8: 県外遠征
AD9: 特別強化コーチ招へい
A10: 参加者 | B10: 指 導 者 | C10: 部員 | E10: 合計 | G10: 事業の内容 | AD10: 強化合宿及び特別強化コーチ招へい
E11: （人） | AD11: 県外遠征及び特別強化コーチ招へい
C12: 男 | D12: 女 | E12: 計 | G12: 及び成果 | AD12: 各種トレーニング講習
AD13: 器具施設使用
A15: （収入） | Z15: （単位：円）
A16: 費 目 | E16: 決 算 額 | I16: 内 訳
A17: 高体連補助金
A18: 保護者徴収金等 | E18: =E20-E17 -> 0
A20: 計 | E20: =E43 -> 0
A22: （支出） | Z22: （単位：円）
A23: 費目 | E23: 決 算 額 | I23: 内 訳（各領収書等金額） | V23: 計 | X23: 領収書等番号
A24: 交 通 費 | E24: =SUM(V24:V29) -> 0 | I24: 参加者旅費（往復） | V24: =SUM(L24:T24) -> 0
I25: 自家用車等燃料費 | V25: =SUM(L25:T25) -> 0
I26: 高速・有料道路 通行料 | V26: =SUM(L26:T26) -> 0
I27: 駐車料 | V27: =SUM(L27:T27) -> 0
I28: レンタカー代 | V28: =SUM(L28:T28) -> 0
I29: 特別強化コーチ 旅費（往復） | V29: =SUM(L29:T29) -> 0
A30: 宿 泊 費 | E30: =SUM(V30:V35) -> 0 | I30: １泊２食 | V30: =SUM(L30:T30) -> 0
I31: １泊朝食 | V31: =SUM(L31:T31) -> 0
I32: １泊素泊まり | V32: =SUM(L32:T32) -> 0
I33: 宿泊日夕食 | V33: =SUM(L33:T33) -> 0
I34: 宿泊翌日朝食 | V34: =SUM(L34:T34) -> 0
I35: 特別強化コーチ 宿泊費 | V35: =SUM(L35:T35) -> 0
A36: 謝 金 | E36: =V36 -> 0 | I36: 特別強化コーチ 謝金 | V36: =SUM(L36:T36) -> 0
A37: 会場・器具使用料 | E37: =+V37+V38+V39+V40 -> 0 | I37: 施設使用料 | V37: =SUM(L37:U37) -> 0
J38: ボウリング | V38: =SUM(L38:T38) -> 0
J39: ゴルフ | V39: =SUM(L39:T39) -> 0
J40: 馬術 | V40: =SUM(L40:T40) -> 0
A41: 運 搬 費 | E41: =+V41+V42 -> 0 | J41: 艇 | V41: =SUM(L41:T41) -> 0
J42: 馬 | V42: =SUM(L42:T42) -> 0
A43: 計 | E43: =SUM(E24:E42) -> 0

Sheet 個表9
A1: ＜様式第２号の２＞
A2: 令和７年度ジュニアスポーツ推進事業[強化校・育成校・支援校]事業別実施報告書・収支決算書（個表）
A5: 学校名 | D5: =実績報告!N11 -> 0 | I5: 高等学校 | M5: 指定競技名 | N5: =実績報告!N15 -> 0 | W5: 事業番号 | Y5: 9
A7: 事業名 | J7: 期 間 | L7: 令和 | N7: 年 | P7: 月 | R7: 日（ | T7: ）～ | V7: 月 | X7: 日（ | Z7: ） | AD7: 強化合宿
A8: 会 場 名 | G8: 所 在 地 | M8: 実施責任者氏名（顧問名） | R8: 実施責任者電話番号（携帯） | AD8: 県外遠征
AD9: 特別強化コーチ招へい
A10: 参加者 | B10: 指 導 者 | C10: 部員 | E10: 合計 | G10: 事業の内容 | AD10: 強化合宿及び特別強化コーチ招へい
E11: （人） | AD11: 県外遠征及び特別強化コーチ招へい
C12: 男 | D12: 女 | E12: 計 | G12: 及び成果 | AD12: 各種トレーニング講習
AD13: 器具施設使用
A15: （収入） | Z15: （単位：円）
A16: 費 目 | E16: 決 算 額 | I16: 内 訳
A17: 高体連補助金
A18: 保護者徴収金等 | E18: =E20-E17 -> 0
A20: 計 | E20: =E43 -> 0
A22: （支出） | Z22: （単位：円）
A23: 費目 | E23: 決 算 額 | I23: 内 訳（各領収書等金額） | V23: 計 | X23: 領収書等番号
A24: 交 通 費 | E24: =SUM(V24:V29) -> 0 | I24: 参加者旅費（往復） | V24: =SUM(L24:T24) -> 0
I25: 自家用車等燃料費 | V25: =SUM(L25:T25) -> 0
I26: 高速・有料道路 通行料 | V26: =SUM(L26:T26) -> 0
I27: 駐車料 | V27: =SUM(L27:T27) -> 0
I28: レンタカー代 | V28: =SUM(L28:T28) -> 0
I29: 特別強化コーチ 旅費（往復） | V29: =SUM(L29:T29) -> 0
A30: 宿 泊 費 | E30: =SUM(V30:V35) -> 0 | I30: １泊２食 | V30: =SUM(L30:T30) -> 0
I31: １泊朝食 | V31: =SUM(L31:T31) -> 0
I32: １泊素泊まり | V32: =SUM(L32:T32) -> 0
I33: 宿泊日夕食 | V33: =SUM(L33:T33) -> 0
I34: 宿泊翌日朝食 | V34: =SUM(L34:T34) -> 0
I35: 特別強化コーチ 宿泊費 | V35: =SUM(L35:T35) -> 0
A36: 謝 金 | E36: =V36 -> 0 | I36: 特別強化コーチ 謝金 | V36: =SUM(L36:T36) -> 0
A37: 会場・器具使用料 | E37: =+V37+V38+V39+V40 -> 0 | I37: 施設使用料 | V37: =SUM(L37:U37) -> 0
J38: ボウリング | V38: =SUM(L38:T38) -> 0
J39: ゴルフ | V39: =SUM(L39:T39) -> 0
J40: 馬術 | V40: =SUM(L40:T40) -> 0
A41: 運 搬 費 | E41: =+V41+V42 -> 0 | J41: 艇 | V41: =SUM(L41:T41) -> 0
J42: 馬 | V42: =SUM(L42:T42) -> 0
A43: 計 | E43: =SUM(E24:E42) -> 0

Sheet 個表10
A1: ＜様式第２号の２＞
A2: 令和７年度ジュニアスポーツ推進事業[強化校・育成校・支援校]事業別実施報告書・収支決算書（個表）
A5: 学校名 | D5: =実績報告!N11 -> 0 | I5: 高等学校 | M5: 指定競技名 | N5: =実績報告!N15 -> 0 | W5: 事業番号 | Y5: 10
A7: 事業名 | J7: 期 間 | L7: 令和 | N7: 年 | P7: 月 | R7: 日（ | T7: ）～ | V7: 月 | X7: 日（ | Z7: ） | AD7: 強化合宿
A8: 会 場 名 | G8: 所 在 地 | M8: 実施責任者氏名（顧問名） | R8: 実施責任者電話番号（携帯） | AD8: 県外遠征
AD9: 特別強化コーチ招へい
A10: 参加者 | B10: 指 導 者 | C10: 部員 | E10: 合計 | G10: 事業の内容 | AD10: 強化合宿及び特別強化コーチ招へい
E11: （人） | AD11: 県外遠征及び特別強化コーチ招へい
C12: 男 | D12: 女 | E12: 計 | G12: 及び成果 | AD12: 各種トレーニング講習
AD13: 器具施設使用
A15: （収入） | Z15: （単位：円）
A16: 費 目 | E16: 決 算 額 | I16: 内 訳
A17: 高体連補助金
A18: 保護者徴収金等 | E18: =E20-E17 -> 0
A20: 計 | E20: =E43 -> 0
A22: （支出） | Z22: （単位：円）
A23: 費目 | E23: 決 算 額 | I23: 内 訳（各領収書等金額） | V23: 計 | X23: 領収書等番号
A24: 交 通 費 | E24: =SUM(V24:V29) -> 0 | I24: 参加者旅費（往復） | V24: =SUM(L24:T24) -> 0
I25: 自家用車等燃料費 | V25: =SUM(L25:T25) -> 0
I26: 高速・有料道路 通行料 | V26: =SUM(L26:T26) -> 0
I27: 駐車料 | V27: =SUM(L27:T27) -> 0
I28: レンタカー代 | V28: =SUM(L28:T28) -> 0
I29: 特別強化コーチ 旅費（往復） | V29: =SUM(L29:T29) -> 0
A30: 宿 泊 費 | E30: =SUM(V30:V35) -> 0 | I30: １泊２食 | V30: =SUM(L30:T30) -> 0
I31: １泊朝食 | V31: =SUM(L31:T31) -> 0
I32: １泊素泊まり | V32: =SUM(L32:T32) -> 0
I33: 宿泊日夕食 | V33: =SUM(L33:T33) -> 0
I34: 宿泊翌日朝食 | V34: =SUM(L34:T34) -> 0
I35: 特別強化コーチ 宿泊費 | V35: =SUM(L35:T35) -> 0
A36: 謝 金 | E36: =V36 -> 0 | I36: 特別強化コーチ 謝金 | V36: =SUM(L36:T36) -> 0
A37: 会場・器具使用料 | E37: =+V37+V38+V39+V40 -> 0 | I37: 施設使用料 | V37: =SUM(L37:U37) -> 0
J38: ボウリング | V38: =SUM(L38:T38) -> 0
J39: ゴルフ | V39: =SUM(L39:T39) -> 0
J40: 馬術 | V40: =SUM(L40:T40) -> 0
A41: 運 搬 費 | E41: =+V41+V42 -> 0 | J41: 艇 | V41: =SUM(L41:T41) -> 0
J42: 馬 | V42: =SUM(L42:T42) -> 0
A43: 計 | E43: =SUM(E24:E42) -> 0

Sheet 個表11
A1: ＜様式第２号の２＞
A2: 令和７年度ジュニアスポーツ推進事業[強化校・育成校・支援校]事業別実施報告書・収支決算書（個表）
A5: 学校名 | D5: =実績報告!N11 -> 0 | I5: 高等学校 | M5: 指定競技名 | N5: =実績報告!N15 -> 0 | W5: 事業番号 | Y5: 11
A7: 事業名 | J7: 期 間 | L7: 令和 | N7: 年 | P7: 月 | R7: 日（ | T7: ）～ | V7: 月 | X7: 日（ | Z7: ） | AD7: 強化合宿
A8: 会 場 名 | G8: 所 在 地 | M8: 実施責任者氏名（顧問名） | R8: 実施責任者電話番号（携帯） | AD8: 県外遠征
AD9: 特別強化コーチ招へい
A10: 参加者 | B10: 指 導 者 | C10: 部員 | E10: 合計 | G10: 事業の内容 | AD10: 強化合宿及び特別強化コーチ招へい
E11: （人） | AD11: 県外遠征及び特別強化コーチ招へい
C12: 男 | D12: 女 | E12: 計 | G12: 及び成果 | AD12: 各種トレーニング講習
AD13: 器具施設使用
A15: （収入） | Z15: （単位：円）
A16: 費 目 | E16: 決 算 額 | I16: 内 訳
A17: 高体連補助金
A18: 保護者徴収金等 | E18: =E20-E17 -> 0
A20: 計 | E20: =E43 -> 0
A22: （支出） | Z22: （単位：円）
A23: 費目 | E23: 決 算 額 | I23: 内 訳（各領収書等金額） | V23: 計 | X23: 領収書等番号
A24: 交 通 費 | E24: =SUM(V24:V29) -> 0 | I24: 参加者旅費（往復） | V24: =SUM(L24:T24) -> 0
I25: 自家用車等燃料費 | V25: =SUM(L25:T25) -> 0
I26: 高速・有料道路 通行料 | V26: =SUM(L26:T26) -> 0
I27: 駐車料 | V27: =SUM(L27:T27) -> 0
I28: レンタカー代 | V28: =SUM(L28:T28) -> 0
I29: 特別強化コーチ 旅費（往復） | V29: =SUM(L29:T29) -> 0
A30: 宿 泊 費 | E30: =SUM(V30:V35) -> 0 | I30: １泊２食 | V30: =SUM(L30:T30) -> 0
I31: １泊朝食 | V31: =SUM(L31:T31) -> 0
I32: １泊素泊まり | V32: =SUM(L32:T32) -> 0
I33: 宿泊日夕食 | V33: =SUM(L33:T33) -> 0
I34: 宿泊翌日朝食 | V34: =SUM(L34:T34) -> 0
I35: 特別強化コーチ 宿泊費 | V35: =SUM(L35:T35) -> 0
A36: 謝 金 | E36: =V36 -> 0 | I36: 特別強化コーチ 謝金 | V36: =SUM(L36:T36) -> 0
A37: 会場・器具使用料 | E37: =+V37+V38+V39+V40 -> 0 | I37: 施設使用料 | V37: =SUM(L37:U37) -> 0
J38: ボウリング | V38: =SUM(L38:T38) -> 0
J39: ゴルフ | V39: =SUM(L39:T39) -> 0
J40: 馬術 | V40: =SUM(L40:T40) -> 0
A41: 運 搬 費 | E41: =+V41+V42 -> 0 | J41: 艇 | V41: =SUM(L41:T41) -> 0
J42: 馬 | V42: =SUM(L42:T42) -> 0
A43: 計 | E43: =SUM(E24:E42) -> 0
